Package: EBSEA Version: 1.35.0 Command: E:\biocbuild\bbs-3.21-bioc\R\bin\R.exe CMD INSTALL EBSEA StartedAt: 2025-01-31 15:48:37 -0500 (Fri, 31 Jan 2025) EndedAt: 2025-01-31 15:49:04 -0500 (Fri, 31 Jan 2025) EllapsedTime: 26.9 seconds RetCode: 0 Status: OK