Package: DuplexDiscovereR Version: 1.1.1 Command: /home/biocbuild/R/R/bin/R CMD check --install=check:DuplexDiscovereR.install-out.txt --library=/home/biocbuild/R/R/site-library --no-vignettes --timings DuplexDiscovereR_1.1.1.tar.gz StartedAt: 2025-01-28 10:10:04 -0000 (Tue, 28 Jan 2025) EndedAt: 2025-01-28 10:19:38 -0000 (Tue, 28 Jan 2025) EllapsedTime: 574.6 seconds RetCode: 0 Status: WARNINGS CheckDir: DuplexDiscovereR.Rcheck Warnings: 5