Package: DropletUtils Version: 1.27.2 Command: /home/biocbuild/R/R/bin/R CMD check --install=check:DropletUtils.install-out.txt --library=/home/biocbuild/R/R/site-library --no-vignettes --timings DropletUtils_1.27.2.tar.gz StartedAt: 2025-01-28 10:08:35 -0000 (Tue, 28 Jan 2025) EndedAt: 2025-01-28 10:16:52 -0000 (Tue, 28 Jan 2025) EllapsedTime: 497.6 seconds RetCode: 0 Status: WARNINGS CheckDir: DropletUtils.Rcheck Warnings: 1