Package: DiscoRhythm Version: 1.23.0 Command: chmod a+r DiscoRhythm -R && E:\biocbuild\bbs-3.21-bioc\R\bin\R.exe CMD build --keep-empty-dirs --no-resave-data DiscoRhythm StartedAt: 2025-01-31 18:13:51 -0500 (Fri, 31 Jan 2025) EndedAt: 2025-01-31 18:14:55 -0500 (Fri, 31 Jan 2025) EllapsedTime: 64.2 seconds RetCode: 0 Status: OK PackageFile: DiscoRhythm_1.23.0.tar.gz PackageFileSize: 2.522 MiB