Package: DepInfeR Version: 1.11.0 Command: rm -rf DepInfeR.buildbin-libdir && mkdir DepInfeR.buildbin-libdir && E:\biocbuild\bbs-3.21-bioc\R\bin\R.exe CMD INSTALL --build --library=DepInfeR.buildbin-libdir DepInfeR_1.11.0.tar.gz StartedAt: 2025-02-01 07:04:29 -0500 (Sat, 01 Feb 2025) EndedAt: 2025-02-01 07:04:38 -0500 (Sat, 01 Feb 2025) EllapsedTime: 9.8 seconds RetCode: 0 Status: OK PackageFile: DepInfeR_1.11.0.zip PackageFileSize: 1.775 MiB