Package: DelayedDataFrame Version: 1.23.0 Command: chmod a+r DelayedDataFrame -R && E:\biocbuild\bbs-3.21-bioc\R\bin\R.exe CMD build --keep-empty-dirs --no-resave-data DelayedDataFrame StartedAt: 2025-01-31 18:06:31 -0500 (Fri, 31 Jan 2025) EndedAt: 2025-01-31 18:07:15 -0500 (Fri, 31 Jan 2025) EllapsedTime: 43.8 seconds RetCode: 0 Status: OK PackageFile: DelayedDataFrame_1.23.0.tar.gz PackageFileSize: 486.7 KiB