Package: DegCre Version: 1.3.0 Command: rm -rf DegCre.buildbin-libdir && mkdir DegCre.buildbin-libdir && E:\biocbuild\bbs-3.21-bioc\R\bin\R.exe CMD INSTALL --build --library=DegCre.buildbin-libdir DegCre_1.3.0.tar.gz StartedAt: 2025-02-01 07:03:03 -0500 (Sat, 01 Feb 2025) EndedAt: 2025-02-01 07:04:00 -0500 (Sat, 01 Feb 2025) EllapsedTime: 56.9 seconds RetCode: 0 Status: OK PackageFile: DegCre_1.3.0.zip PackageFileSize: 2.159 MiB