Package: DeconRNASeq Version: 1.49.0 Command: /Library/Frameworks/R.framework/Resources/bin/R CMD INSTALL DeconRNASeq StartedAt: 2025-01-31 15:12:25 -0500 (Fri, 31 Jan 2025) EndedAt: 2025-01-31 15:12:47 -0500 (Fri, 31 Jan 2025) EllapsedTime: 22.2 seconds RetCode: 0 Status: OK