Package: DeMixT Version: 1.23.0 Command: E:\biocbuild\bbs-3.21-bioc\R\bin\R.exe CMD check --no-multiarch --install=check:DeMixT.install-out.txt --library=E:\biocbuild\bbs-3.21-bioc\R\library --no-vignettes --timings DeMixT_1.23.0.tar.gz StartedAt: 2025-02-01 00:05:29 -0500 (Sat, 01 Feb 2025) EndedAt: 2025-02-01 00:14:54 -0500 (Sat, 01 Feb 2025) EllapsedTime: 564.5 seconds RetCode: 0 Status: WARNINGS CheckDir: DeMixT.Rcheck Warnings: 3