Package: Damsel Version: 1.3.0 Command: /home/biocbuild/bbs-3.21-bioc/R/bin/R CMD build --keep-empty-dirs --no-resave-data Damsel StartedAt: 2025-01-31 16:56:25 -0500 (Fri, 31 Jan 2025) EndedAt: 2025-01-31 16:59:10 -0500 (Fri, 31 Jan 2025) EllapsedTime: 165.3 seconds RetCode: 0 Status: OK PackageFile: Damsel_1.3.0.tar.gz PackageFileSize: 3.255 MiB