Package: DaMiRseq Version: 2.19.0 Command: /Library/Frameworks/R.framework/Resources/bin/R CMD build --keep-empty-dirs --no-resave-data DaMiRseq StartedAt: 2025-01-31 16:05:20 -0500 (Fri, 31 Jan 2025) EndedAt: 2025-01-31 16:08:34 -0500 (Fri, 31 Jan 2025) EllapsedTime: 194.2 seconds RetCode: 0 Status: OK PackageFile: DaMiRseq_2.19.0.tar.gz PackageFileSize: 4.217 MiB