Package: DSS Version: 2.55.0 Command: /home/biocbuild/R/R/bin/R CMD INSTALL DSS StartedAt: 2025-01-29 19:56:13 -0000 (Wed, 29 Jan 2025) EndedAt: 2025-01-29 19:57:11 -0000 (Wed, 29 Jan 2025) EllapsedTime: 57.9 seconds RetCode: 0 Status: OK