Package: DNAshapeR Version: 1.35.0 Command: /home/biocbuild/bbs-3.21-bioc/R/bin/R CMD check --install=check:DNAshapeR.install-out.txt --library=/home/biocbuild/bbs-3.21-bioc/R/site-library --timings DNAshapeR_1.35.0.tar.gz StartedAt: 2025-02-02 21:47:13 -0500 (Sun, 02 Feb 2025) EndedAt: 2025-02-02 21:49:36 -0500 (Sun, 02 Feb 2025) EllapsedTime: 143.2 seconds RetCode: 0 Status: OK CheckDir: DNAshapeR.Rcheck Warnings: 0