Package: DNAshapeR Version: 1.35.0 Command: /Library/Frameworks/R.framework/Resources/bin/R CMD check --install=check:DNAshapeR.install-out.txt --library=/Library/Frameworks/R.framework/Resources/library --no-vignettes --timings DNAshapeR_1.35.0.tar.gz StartedAt: 2025-01-31 19:01:46 -0500 (Fri, 31 Jan 2025) EndedAt: 2025-01-31 19:02:44 -0500 (Fri, 31 Jan 2025) EllapsedTime: 57.7 seconds RetCode: 0 Status: OK CheckDir: DNAshapeR.Rcheck Warnings: 0