Package: DNAfusion Version: 1.9.0 Command: E:\biocbuild\bbs-3.21-bioc\R\bin\R.exe CMD INSTALL DNAfusion StartedAt: 2025-01-31 16:11:04 -0500 (Fri, 31 Jan 2025) EndedAt: 2025-01-31 16:11:46 -0500 (Fri, 31 Jan 2025) EllapsedTime: 42.0 seconds RetCode: 0 Status: OK