Package: DNAfusion Version: 1.9.0 Command: chmod a+r DNAfusion -R && E:\biocbuild\bbs-3.21-bioc\R\bin\R.exe CMD build --keep-empty-dirs --no-resave-data DNAfusion StartedAt: 2025-01-31 18:15:53 -0500 (Fri, 31 Jan 2025) EndedAt: 2025-01-31 18:19:16 -0500 (Fri, 31 Jan 2025) EllapsedTime: 202.3 seconds RetCode: 0 Status: OK PackageFile: DNAfusion_1.9.0.tar.gz PackageFileSize: 6.298 MiB