Package: DNAfusion Version: 1.9.0 Command: /home/biocbuild/R/R/bin/R CMD INSTALL DNAfusion StartedAt: 2025-01-29 19:53:48 -0000 (Wed, 29 Jan 2025) EndedAt: 2025-01-29 19:54:34 -0000 (Wed, 29 Jan 2025) EllapsedTime: 46.4 seconds RetCode: 0 Status: OK