Package: DNAfusion Version: 1.9.0 Command: /home/biocbuild/R/R/bin/R CMD check --install=check:DNAfusion.install-out.txt --library=/home/biocbuild/R/R/site-library --no-vignettes --timings DNAfusion_1.9.0.tar.gz StartedAt: 2025-01-28 10:05:31 -0000 (Tue, 28 Jan 2025) EndedAt: 2025-01-28 10:16:05 -0000 (Tue, 28 Jan 2025) EllapsedTime: 633.7 seconds RetCode: 0 Status: OK CheckDir: DNAfusion.Rcheck Warnings: 0