Package: DMRcaller Version: 1.39.0 Command: /home/biocbuild/bbs-3.21-bioc/R/bin/R CMD build --keep-empty-dirs --no-resave-data DMRcaller StartedAt: 2025-01-31 17:05:08 -0500 (Fri, 31 Jan 2025) EndedAt: 2025-01-31 17:06:22 -0500 (Fri, 31 Jan 2025) EllapsedTime: 74.1 seconds RetCode: 0 Status: OK PackageFile: DMRcaller_1.39.0.tar.gz PackageFileSize: 1.633 MiB