Package: DMRScan Version: 1.29.0 Command: rm -rf DMRScan.buildbin-libdir && mkdir DMRScan.buildbin-libdir && E:\biocbuild\bbs-3.21-bioc\R\bin\R.exe CMD INSTALL --build --library=DMRScan.buildbin-libdir DMRScan_1.29.0.tar.gz StartedAt: 2025-02-01 07:06:31 -0500 (Sat, 01 Feb 2025) EndedAt: 2025-02-01 07:06:57 -0500 (Sat, 01 Feb 2025) EllapsedTime: 26.9 seconds RetCode: 0 Status: OK PackageFile: DMRScan_1.29.0.zip PackageFileSize: 5.08 MiB