Package: DMRScan Version: 1.29.0 Command: /home/biocbuild/bbs-3.21-bioc/R/bin/R CMD INSTALL DMRScan StartedAt: 2025-01-31 15:14:17 -0500 (Fri, 31 Jan 2025) EndedAt: 2025-01-31 15:14:32 -0500 (Fri, 31 Jan 2025) EllapsedTime: 14.1 seconds RetCode: 0 Status: OK