Package: DIAlignR Version: 2.15.1 Command: /Library/Frameworks/R.framework/Resources/bin/R CMD build --keep-empty-dirs --no-resave-data DIAlignR StartedAt: 2025-01-31 16:09:59 -0500 (Fri, 31 Jan 2025) EndedAt: 2025-01-31 16:10:28 -0500 (Fri, 31 Jan 2025) EllapsedTime: 28.3 seconds RetCode: 0 Status: OK PackageFile: DIAlignR_2.15.1.tar.gz PackageFileSize: 4.271 MiB