Package: DFplyr Version: 1.1.0 Command: chmod a+r DFplyr -R && E:\biocbuild\bbs-3.21-bioc\R\bin\R.exe CMD build --keep-empty-dirs --no-resave-data DFplyr StartedAt: 2025-01-31 18:11:49 -0500 (Fri, 31 Jan 2025) EndedAt: 2025-01-31 18:12:20 -0500 (Fri, 31 Jan 2025) EllapsedTime: 30.7 seconds RetCode: 0 Status: OK PackageFile: DFplyr_1.1.0.tar.gz PackageFileSize: 393.7 KiB