Package: DFplyr Version: 1.1.0 Command: /Library/Frameworks/R.framework/Resources/bin/R CMD check --install=check:DFplyr.install-out.txt --library=/Library/Frameworks/R.framework/Resources/library --no-vignettes --timings DFplyr_1.1.0.tar.gz StartedAt: 2025-01-31 19:58:56 -0500 (Fri, 31 Jan 2025) EndedAt: 2025-01-31 20:00:07 -0500 (Fri, 31 Jan 2025) EllapsedTime: 71.4 seconds RetCode: 0 Status: OK CheckDir: DFplyr.Rcheck Warnings: 0