Package: DFplyr Version: 1.1.0 Command: /Library/Frameworks/R.framework/Resources/bin/R CMD build --keep-empty-dirs --no-resave-data DFplyr StartedAt: 2025-01-31 16:31:35 -0500 (Fri, 31 Jan 2025) EndedAt: 2025-01-31 16:31:56 -0500 (Fri, 31 Jan 2025) EllapsedTime: 20.6 seconds RetCode: 0 Status: OK PackageFile: DFplyr_1.1.0.tar.gz PackageFileSize: 393.3 KiB