Package: DFplyr Version: 1.1.0 Command: /home/biocbuild/R/R/bin/R CMD build --keep-empty-dirs --no-resave-data DFplyr StartedAt: 2025-01-28 22:27:53 -0000 (Tue, 28 Jan 2025) EndedAt: 2025-01-28 22:28:14 -0000 (Tue, 28 Jan 2025) EllapsedTime: 21.0 seconds RetCode: 0 Status: OK PackageFile: DFplyr_1.1.0.tar.gz PackageFileSize: 459.5 KiB