Package: DEsubs Version: 1.33.0 Command: E:\biocbuild\bbs-3.21-bioc\R\bin\R.exe CMD INSTALL DEsubs StartedAt: 2025-01-31 16:21:11 -0500 (Fri, 31 Jan 2025) EndedAt: 2025-01-31 16:21:49 -0500 (Fri, 31 Jan 2025) EllapsedTime: 38.0 seconds RetCode: 0 Status: OK