Package: DEsubs Version: 1.33.0 Command: chmod a+r DEsubs -R && E:\biocbuild\bbs-3.21-bioc\R\bin\R.exe CMD build --keep-empty-dirs --no-resave-data DEsubs StartedAt: 2025-01-31 18:10:41 -0500 (Fri, 31 Jan 2025) EndedAt: 2025-01-31 18:12:17 -0500 (Fri, 31 Jan 2025) EllapsedTime: 96.1 seconds RetCode: 0 Status: OK PackageFile: DEsubs_1.33.0.tar.gz PackageFileSize: 3.974 MiB