Package: DEsubs Version: 1.33.0 Command: rm -rf DEsubs.buildbin-libdir && mkdir DEsubs.buildbin-libdir && E:\biocbuild\bbs-3.21-bioc\R\bin\R.exe CMD INSTALL --build --library=DEsubs.buildbin-libdir DEsubs_1.33.0.tar.gz StartedAt: 2025-02-01 07:05:09 -0500 (Sat, 01 Feb 2025) EndedAt: 2025-02-01 07:05:42 -0500 (Sat, 01 Feb 2025) EllapsedTime: 33.0 seconds RetCode: 0 Status: OK PackageFile: DEsubs_1.33.0.zip PackageFileSize: 3.752 MiB