Package: DEsubs Version: 1.33.0 Command: /Library/Frameworks/R.framework/Resources/bin/R CMD INSTALL DEsubs StartedAt: 2025-01-31 15:32:17 -0500 (Fri, 31 Jan 2025) EndedAt: 2025-01-31 15:32:54 -0500 (Fri, 31 Jan 2025) EllapsedTime: 37.0 seconds RetCode: 0 Status: OK