Package: DEScan2 Version: 1.27.0 Command: /Library/Frameworks/R.framework/Resources/bin/R CMD check --install=check:DEScan2.install-out.txt --library=/Library/Frameworks/R.framework/Resources/library --no-vignettes --timings DEScan2_1.27.0.tar.gz StartedAt: 2025-01-31 19:57:37 -0500 (Fri, 31 Jan 2025) EndedAt: 2025-01-31 20:05:44 -0500 (Fri, 31 Jan 2025) EllapsedTime: 486.8 seconds RetCode: 0 Status: WARNINGS CheckDir: DEScan2.Rcheck Warnings: 2