Package: DEScan2 Version: 1.27.0 Command: /home/biocbuild/R/R/bin/R CMD build --keep-empty-dirs --no-resave-data DEScan2 StartedAt: 2025-01-28 22:25:59 -0000 (Tue, 28 Jan 2025) EndedAt: 2025-01-28 22:28:13 -0000 (Tue, 28 Jan 2025) EllapsedTime: 134.0 seconds RetCode: 0 Status: OK PackageFile: DEScan2_1.27.0.tar.gz PackageFileSize: 2.443 MiB