Package: DEScan2 Version: 1.27.0 Command: /Library/Frameworks/R.framework/Resources/bin/R CMD build --keep-empty-dirs --no-resave-data DEScan2 StartedAt: 2025-01-31 16:09:20 -0500 (Fri, 31 Jan 2025) EndedAt: 2025-01-31 16:09:55 -0500 (Fri, 31 Jan 2025) EllapsedTime: 35.4 seconds RetCode: 0 Status: OK PackageFile: DEScan2_1.27.0.tar.gz PackageFileSize: 2.478 MiB