Package: DEGreport Version: 1.43.0 Command: /home/biocbuild/bbs-3.21-bioc/R/bin/R CMD INSTALL DEGreport StartedAt: 2025-01-31 15:32:45 -0500 (Fri, 31 Jan 2025) EndedAt: 2025-01-31 15:33:16 -0500 (Fri, 31 Jan 2025) EllapsedTime: 30.7 seconds RetCode: 0 Status: OK