Package: DEFormats Version: 1.35.0 Command: E:\biocbuild\bbs-3.21-bioc\R\bin\R.exe CMD INSTALL DEFormats StartedAt: 2025-01-31 16:16:09 -0500 (Fri, 31 Jan 2025) EndedAt: 2025-01-31 16:16:42 -0500 (Fri, 31 Jan 2025) EllapsedTime: 33.5 seconds RetCode: 0 Status: OK