Package: DEFormats Version: 1.35.0 Command: /home/biocbuild/bbs-3.21-bioc/R/bin/R CMD INSTALL DEFormats StartedAt: 2025-02-02 15:23:29 -0500 (Sun, 02 Feb 2025) EndedAt: 2025-02-02 15:23:54 -0500 (Sun, 02 Feb 2025) EllapsedTime: 24.6 seconds RetCode: 0 Status: OK