Package: DEFormats Version: 1.35.0 Command: rm -rf DEFormats.buildbin-libdir && mkdir DEFormats.buildbin-libdir && /Users/biocbuild/BBS/utils/build-universal.sh DEFormats_1.35.0.tar.gz /Library/Frameworks/R.framework/Resources/bin/R DEFormats.buildbin-libdir StartedAt: 2025-02-01 00:14:13 -0500 (Sat, 01 Feb 2025) EndedAt: 2025-02-01 00:14:49 -0500 (Sat, 01 Feb 2025) EllapsedTime: 35.7 seconds RetCode: 0 Status: OK PackageFile: DEFormats_1.35.0.tgz PackageFileSize: 488.4 KiB