Package: DCATS Version: 1.5.0 Command: /home/biocbuild/bbs-3.21-bioc/R/bin/R CMD INSTALL DCATS StartedAt: 2025-01-31 15:45:32 -0500 (Fri, 31 Jan 2025) EndedAt: 2025-01-31 15:45:39 -0500 (Fri, 31 Jan 2025) EllapsedTime: 6.5 seconds RetCode: 0 Status: OK