Package: DCATS Version: 1.5.0 Command: /home/biocbuild/bbs-3.21-bioc/R/bin/R CMD check --install=check:DCATS.install-out.txt --library=/home/biocbuild/bbs-3.21-bioc/R/site-library --timings DCATS_1.5.0.tar.gz StartedAt: 2025-01-31 21:29:57 -0500 (Fri, 31 Jan 2025) EndedAt: 2025-01-31 21:31:36 -0500 (Fri, 31 Jan 2025) EllapsedTime: 99.1 seconds RetCode: 0 Status: OK CheckDir: DCATS.Rcheck Warnings: 0