Package: CytoGLMM Version: 1.15.0 Command: E:\biocbuild\bbs-3.21-bioc\R\bin\R.exe CMD check --no-multiarch --install=check:CytoGLMM.install-out.txt --library=E:\biocbuild\bbs-3.21-bioc\R\library --no-vignettes --timings CytoGLMM_1.15.0.tar.gz StartedAt: 2025-01-31 23:52:47 -0500 (Fri, 31 Jan 2025) EndedAt: 2025-01-31 23:55:11 -0500 (Fri, 31 Jan 2025) EllapsedTime: 143.6 seconds RetCode: 0 Status: OK CheckDir: CytoGLMM.Rcheck Warnings: 0