Package: CytoGLMM Version: 1.15.0 Command: /Library/Frameworks/R.framework/Resources/bin/R CMD INSTALL CytoGLMM StartedAt: 2025-01-31 15:28:14 -0500 (Fri, 31 Jan 2025) EndedAt: 2025-01-31 15:28:19 -0500 (Fri, 31 Jan 2025) EllapsedTime: 5.1 seconds RetCode: 0 Status: OK