Package: CoreGx Version: 2.11.0 Command: /Library/Frameworks/R.framework/Resources/bin/R CMD build --keep-empty-dirs --no-resave-data CoreGx StartedAt: 2025-02-02 16:17:49 -0500 (Sun, 02 Feb 2025) EndedAt: 2025-02-02 16:18:48 -0500 (Sun, 02 Feb 2025) EllapsedTime: 59.4 seconds RetCode: 0 Status: OK PackageFile: CoreGx_2.11.0.tar.gz PackageFileSize: 1.364 MiB