Package: CopyNumberPlots Version: 1.23.0 Command: /home/biocbuild/bbs-3.21-bioc/R/bin/R CMD build --keep-empty-dirs --no-resave-data CopyNumberPlots StartedAt: 2025-02-02 16:43:35 -0500 (Sun, 02 Feb 2025) EndedAt: 2025-02-02 16:44:48 -0500 (Sun, 02 Feb 2025) EllapsedTime: 72.1 seconds RetCode: 1 Status: ERROR PackageFile: None PackageFileSize: NA