Package: ClusterSignificance Version: 1.35.0 Command: E:\biocbuild\bbs-3.21-bioc\R\bin\R.exe CMD INSTALL ClusterSignificance StartedAt: 2025-01-31 15:21:37 -0500 (Fri, 31 Jan 2025) EndedAt: 2025-01-31 15:24:56 -0500 (Fri, 31 Jan 2025) EllapsedTime: 199.5 seconds RetCode: 0 Status: OK