Package: ClusterSignificance Version: 1.35.0 Command: /home/biocbuild/R/R/bin/R CMD build --keep-empty-dirs --no-resave-data ClusterSignificance StartedAt: 2025-01-28 21:57:46 -0000 (Tue, 28 Jan 2025) EndedAt: 2025-01-28 21:59:18 -0000 (Tue, 28 Jan 2025) EllapsedTime: 92.0 seconds RetCode: 0 Status: OK PackageFile: ClusterSignificance_1.35.0.tar.gz PackageFileSize: 1.448 MiB