Package: ClusterJudge Version: 1.29.1 Command: /Library/Frameworks/R.framework/Resources/bin/R CMD check --install=check:ClusterJudge.install-out.txt --library=/Library/Frameworks/R.framework/Resources/library --no-vignettes --timings ClusterJudge_1.29.1.tar.gz StartedAt: 2025-01-31 18:35:31 -0500 (Fri, 31 Jan 2025) EndedAt: 2025-01-31 18:36:56 -0500 (Fri, 31 Jan 2025) EllapsedTime: 85.0 seconds RetCode: 0 Status: OK CheckDir: ClusterJudge.Rcheck Warnings: 0