Package: CluMSID Version: 1.23.0 Command: /home/biocbuild/bbs-3.21-bioc/R/bin/R CMD build --keep-empty-dirs --no-resave-data CluMSID StartedAt: 2025-01-31 16:43:57 -0500 (Fri, 31 Jan 2025) EndedAt: 2025-01-31 16:49:25 -0500 (Fri, 31 Jan 2025) EllapsedTime: 328.4 seconds RetCode: 0 Status: OK PackageFile: CluMSID_1.23.0.tar.gz PackageFileSize: 4.464 MiB