Package: CleanUpRNAseq Version: 1.1.1 Command: E:\biocbuild\bbs-3.21-bioc\R\bin\R.exe CMD INSTALL CleanUpRNAseq StartedAt: 2025-02-02 16:24:30 -0500 (Sun, 02 Feb 2025) EndedAt: 2025-02-02 16:25:46 -0500 (Sun, 02 Feb 2025) EllapsedTime: 76.4 seconds RetCode: 0 Status: OK