Package: CleanUpRNAseq Version: 1.1.1 Command: chmod a+r CleanUpRNAseq -R && E:\biocbuild\bbs-3.21-bioc\R\bin\R.exe CMD build --keep-empty-dirs --no-resave-data CleanUpRNAseq StartedAt: 2025-02-02 17:50:21 -0500 (Sun, 02 Feb 2025) EndedAt: 2025-02-02 17:52:18 -0500 (Sun, 02 Feb 2025) EllapsedTime: 116.9 seconds RetCode: 0 Status: OK PackageFile: CleanUpRNAseq_1.1.1.tar.gz PackageFileSize: 1.998 MiB