Package: CleanUpRNAseq Version: 1.1.1 Command: /Library/Frameworks/R.framework/Resources/bin/R CMD build --keep-empty-dirs --no-resave-data CleanUpRNAseq StartedAt: 2025-02-02 16:12:38 -0500 (Sun, 02 Feb 2025) EndedAt: 2025-02-02 16:14:07 -0500 (Sun, 02 Feb 2025) EllapsedTime: 89.2 seconds RetCode: 0 Status: OK PackageFile: CleanUpRNAseq_1.1.1.tar.gz PackageFileSize: 2.473 MiB